BEGIN:VCALENDAR
VERSION:2.0
PRODID:-//CERN//INDICO//EN
BEGIN:VEVENT
SUMMARY:SHiP/SND@LHC Group meeting
DTSTART:20260422T140000Z
DTEND:20260422T160000Z
DTSTAMP:20260422T183500Z
UID:indico-event-2199@indico.lip.pt
DESCRIPTION:https://indico.lip.pt/event/2199/
URL:https://indico.lip.pt/event/2199/
END:VEVENT
END:VCALENDAR
