BEGIN:VCALENDAR
VERSION:2.0
PRODID:-//CERN//INDICO//EN
BEGIN:VEVENT
SUMMARY:SHiP/SND@LHC Group meeting
DTSTART:20260416T140000Z
DTEND:20260416T160000Z
DTSTAMP:20260419T175100Z
UID:indico-event-2198@indico.lip.pt
DESCRIPTION:https://indico.lip.pt/event/2198/
URL:https://indico.lip.pt/event/2198/
END:VEVENT
END:VCALENDAR
