BEGIN:VCALENDAR
VERSION:2.0
PRODID:-//CERN//INDICO//EN
BEGIN:VEVENT
SUMMARY:Tópicos de Física de Partículas e Astropartículas I| 25/26
DTSTART:20260416T090000Z
DTEND:20260416T110000Z
DTSTAMP:20260424T080900Z
UID:indico-event-2197@indico.lip.pt
DESCRIPTION:https://indico.lip.pt/event/2197/
LOCATION:LIP-Lisboa/3-311 - Sala de Seminários (LIP Lisboa)
URL:https://indico.lip.pt/event/2197/
END:VEVENT
END:VCALENDAR
