BEGIN:VCALENDAR
VERSION:2.0
PRODID:-//CERN//INDICO//EN
BEGIN:VEVENT
SUMMARY:FAE - Student presentations
DTSTART:20260422T083000Z
DTEND:20260422T141500Z
DTSTAMP:20260424T080600Z
UID:indico-event-2194@indico.lip.pt
DESCRIPTION:https://indico.lip.pt/event/2194/
LOCATION:Sala F.45\, Departamento de Fisica\, FCTUC
URL:https://indico.lip.pt/event/2194/
END:VEVENT
END:VCALENDAR
