BEGIN:VCALENDAR
VERSION:2.0
PRODID:-//CERN//INDICO//EN
BEGIN:VEVENT
SUMMARY:Visit to LIP of the Istituto Tecnico Industriale Statale G. Cardan
 o\, Pavia\, Italia
DTSTART:20260410T083000Z
DTEND:20260410T113000Z
DTSTAMP:20260425T164100Z
UID:indico-event-2190@indico.lip.pt
DESCRIPTION:Speakers: Pedro Abreu (LIP and IST)\n\nhttps://indico.lip.pt/e
 vent/2190/
LOCATION:Sala de Seminários (LIP)
URL:https://indico.lip.pt/event/2190/
END:VEVENT
END:VCALENDAR
